BEGIN:VCALENDAR
VERSION:2.0
PRODID:-//Saint Patricks Cathedral Grammar School - ECPv6.15.17.1//NONSGML v1.0//EN
CALSCALE:GREGORIAN
METHOD:PUBLISH
X-ORIGINAL-URL:https://spcgs.ie
X-WR-CALDESC:Events for Saint Patricks Cathedral Grammar School
REFRESH-INTERVAL;VALUE=DURATION:PT1H
X-Robots-Tag:noindex
X-PUBLISHED-TTL:PT1H
BEGIN:VTIMEZONE
TZID:Europe/Dublin
BEGIN:STANDARD
TZOFFSETFROM:+0000
TZOFFSETTO:+0100
TZNAME:IST
DTSTART:20250330T010000
END:STANDARD
BEGIN:DAYLIGHT
TZOFFSETFROM:+0100
TZOFFSETTO:+0000
TZNAME:GMT
DTSTART:20251026T010000
END:DAYLIGHT
BEGIN:STANDARD
TZOFFSETFROM:+0000
TZOFFSETTO:+0100
TZNAME:IST
DTSTART:20260329T010000
END:STANDARD
BEGIN:DAYLIGHT
TZOFFSETFROM:+0100
TZOFFSETTO:+0000
TZNAME:GMT
DTSTART:20261025T010000
END:DAYLIGHT
BEGIN:STANDARD
TZOFFSETFROM:+0000
TZOFFSETTO:+0100
TZNAME:IST
DTSTART:20270328T010000
END:STANDARD
BEGIN:DAYLIGHT
TZOFFSETFROM:+0100
TZOFFSETTO:+0000
TZNAME:GMT
DTSTART:20271031T010000
END:DAYLIGHT
END:VTIMEZONE
BEGIN:VEVENT
DTSTART;TZID=Europe/Dublin:20260519T190000
DTEND;TZID=Europe/Dublin:20260519T203000
DTSTAMP:20260422T141815
CREATED:20260204T103530Z
LAST-MODIFIED:20260204T103530Z
UID:10000053-1779217200-1779222600@spcgs.ie
SUMMARY:Transition year graduation
DESCRIPTION:Details nearer the time
URL:https://spcgs.ie/event/transition-year-graduation-2/
LOCATION:St. Patrick’s Cathedral Grammar School\, St. Patrick's Close\, Dublin\, D08 WK19\, Ireland
END:VEVENT
END:VCALENDAR