BEGIN:VCALENDAR
VERSION:2.0
PRODID:-//Saint Patricks Cathedral Grammar School - ECPv6.15.17.1//NONSGML v1.0//EN
CALSCALE:GREGORIAN
METHOD:PUBLISH
X-WR-CALNAME:Saint Patricks Cathedral Grammar School
X-ORIGINAL-URL:https://spcgs.ie
X-WR-CALDESC:Events for Saint Patricks Cathedral Grammar School
REFRESH-INTERVAL;VALUE=DURATION:PT1H
X-Robots-Tag:noindex
X-PUBLISHED-TTL:PT1H
BEGIN:VTIMEZONE
TZID:Europe/Dublin
BEGIN:STANDARD
TZOFFSETFROM:+0000
TZOFFSETTO:+0100
TZNAME:IST
DTSTART:20240331T010000
END:STANDARD
BEGIN:DAYLIGHT
TZOFFSETFROM:+0100
TZOFFSETTO:+0000
TZNAME:GMT
DTSTART:20241027T010000
END:DAYLIGHT
BEGIN:STANDARD
TZOFFSETFROM:+0000
TZOFFSETTO:+0100
TZNAME:IST
DTSTART:20250330T010000
END:STANDARD
BEGIN:DAYLIGHT
TZOFFSETFROM:+0100
TZOFFSETTO:+0000
TZNAME:GMT
DTSTART:20251026T010000
END:DAYLIGHT
BEGIN:STANDARD
TZOFFSETFROM:+0000
TZOFFSETTO:+0100
TZNAME:IST
DTSTART:20260329T010000
END:STANDARD
BEGIN:DAYLIGHT
TZOFFSETFROM:+0100
TZOFFSETTO:+0000
TZNAME:GMT
DTSTART:20261025T010000
END:DAYLIGHT
BEGIN:STANDARD
TZOFFSETFROM:+0000
TZOFFSETTO:+0100
TZNAME:IST
DTSTART:20270328T010000
END:STANDARD
BEGIN:DAYLIGHT
TZOFFSETFROM:+0100
TZOFFSETTO:+0000
TZNAME:GMT
DTSTART:20271031T010000
END:DAYLIGHT
END:VTIMEZONE
BEGIN:VEVENT
DTSTART;TZID=Europe/Dublin:20260112T161500
DTEND;TZID=Europe/Dublin:20260112T184500
DTSTAMP:20260420T110726
CREATED:20250528T092308Z
LAST-MODIFIED:20250528T092308Z
UID:10000031-1768234500-1768243500@spcgs.ie
SUMMARY:Parent - teacher meeting first year students
DESCRIPTION:
URL:https://spcgs.ie/event/parent-teacher-meeting-first-year-students/
LOCATION:St. Patrick’s Cathedral Grammar School\, St. Patrick's Close\, Dublin\, D08 WK19\, Ireland
END:VEVENT
BEGIN:VEVENT
DTSTART;TZID=Europe/Dublin:20251212T113000
DTEND;TZID=Europe/Dublin:20251212T113000
DTSTAMP:20260420T110726
CREATED:20251210T220926Z
LAST-MODIFIED:20251210T220926Z
UID:10000039-1765539000-1765539000@spcgs.ie
SUMMARY:Carol Service
DESCRIPTION:St
URL:https://spcgs.ie/event/carol-service/
LOCATION:St. Patrick’s Cathedral Grammar School\, St. Patrick's Close\, Dublin\, D08 WK19\, Ireland
END:VEVENT
BEGIN:VEVENT
DTSTART;TZID=Europe/Dublin:20251119T193000
DTEND;TZID=Europe/Dublin:20251119T210000
DTSTAMP:20260420T110726
CREATED:20250917T093544Z
LAST-MODIFIED:20250917T093544Z
UID:10000011-1763580600-1763586000@spcgs.ie
SUMMARY:TY musical night 2
DESCRIPTION:
URL:https://spcgs.ie/event/ty-musical-night-2/
LOCATION:St. Patrick’s Cathedral Grammar School\, St. Patrick's Close\, Dublin\, D08 WK19\, Ireland
END:VEVENT
BEGIN:VEVENT
DTSTART;TZID=Europe/Dublin:20251118T193000
DTEND;TZID=Europe/Dublin:20251118T210000
DTSTAMP:20260420T110726
CREATED:20250917T093959Z
LAST-MODIFIED:20250917T093959Z
UID:10000012-1763494200-1763499600@spcgs.ie
SUMMARY:TY musical 'Annie' night 1
DESCRIPTION:
URL:https://spcgs.ie/event/ty-musical-annie-night-1/
LOCATION:St. Patrick’s Cathedral Grammar School\, St. Patrick's Close\, Dublin\, D08 WK19\, Ireland
END:VEVENT
BEGIN:VEVENT
DTSTART;TZID=Europe/Dublin:20251113T161500
DTEND;TZID=Europe/Dublin:20251113T181500
DTSTAMP:20260420T110726
CREATED:20251111T082945Z
LAST-MODIFIED:20251111T082945Z
UID:10000014-1763050500-1763057700@spcgs.ie
SUMMARY:Parent teacher meeting third year parents
DESCRIPTION:
URL:https://spcgs.ie/event/parent-teacher-meeting-third-year-parents/
LOCATION:St. Patrick’s Cathedral Grammar School\, St. Patrick's Close\, Dublin\, D08 WK19\, Ireland
END:VEVENT
BEGIN:VEVENT
DTSTART;TZID=Europe/Dublin:20251111T110000
DTEND;TZID=Europe/Dublin:20251111T110000
DTSTAMP:20260420T110726
CREATED:20251017T100454Z
LAST-MODIFIED:20251017T100454Z
UID:10000013-1762858800-1762858800@spcgs.ie
SUMMARY:late opening: class starts 11am
DESCRIPTION:Sc
URL:https://spcgs.ie/event/late-opening-class-starts-11am/
LOCATION:St. Patrick’s Cathedral Grammar School\, St. Patrick's Close\, Dublin\, D08 WK19\, Ireland
END:VEVENT
BEGIN:VEVENT
DTSTART;TZID=Europe/Dublin:20251023T161500
DTEND;TZID=Europe/Dublin:20251023T184500
DTSTAMP:20260420T110726
CREATED:20250528T092059Z
LAST-MODIFIED:20250528T092059Z
UID:10000030-1761236100-1761245100@spcgs.ie
SUMMARY:Parent - teacher meeting Sixth year students
DESCRIPTION:
URL:https://spcgs.ie/event/parent-teacher-meeting-sixth-year-students/
LOCATION:St. Patrick’s Cathedral Grammar School\, St. Patrick's Close\, Dublin\, D08 WK19\, Ireland
END:VEVENT
BEGIN:VEVENT
DTSTART;TZID=Europe/Dublin:20250930T161500
DTEND;TZID=Europe/Dublin:20250930T184500
DTSTAMP:20260420T110726
CREATED:20250819T165316Z
LAST-MODIFIED:20250819T165322Z
UID:10000035-1759248900-1759257900@spcgs.ie
SUMMARY:Parent teacher meeting second year students
DESCRIPTION:
URL:https://spcgs.ie/event/parent-teacher-meeting-second-year-students/
LOCATION:St. Patrick’s Cathedral Grammar School\, St. Patrick's Close\, Dublin\, D08 WK19\, Ireland
END:VEVENT
BEGIN:VEVENT
DTSTART;TZID=Europe/Dublin:20250925T140000
DTEND;TZID=Europe/Dublin:20250925T160000
DTSTAMP:20260420T110726
CREATED:20250902T172901Z
LAST-MODIFIED:20250902T172901Z
UID:10000040-1758808800-1758816000@spcgs.ie
SUMMARY:Open Day
DESCRIPTION:AAAA
URL:https://spcgs.ie/event/open-day-2/
LOCATION:St. Patrick’s Cathedral Grammar School\, St. Patrick's Close\, Dublin\, D08 WK19\, Ireland
END:VEVENT
BEGIN:VEVENT
DTSTART;VALUE=DATE:20250922
DTEND;VALUE=DATE:20250923
DTSTAMP:20260420T110726
CREATED:20250526T122234Z
LAST-MODIFIED:20250526T122234Z
UID:10000038-1758499200-1758585599@spcgs.ie
SUMMARY:School Closure
DESCRIPTION:
URL:https://spcgs.ie/event/school-closure/
LOCATION:St. Patrick’s Cathedral Grammar School\, St. Patrick's Close\, Dublin\, D08 WK19\, Ireland
END:VEVENT
BEGIN:VEVENT
DTSTART;TZID=Europe/Dublin:20250911T113000
DTEND;TZID=Europe/Dublin:20250911T123000
DTSTAMP:20260420T110726
CREATED:20250822T133114Z
LAST-MODIFIED:20250822T224353Z
UID:10000041-1757590200-1757593800@spcgs.ie
SUMMARY:Opening service and prize-giving
DESCRIPTION:
URL:https://spcgs.ie/event/opening-service-and-prize-giving/
LOCATION:St. Patrick’s Cathedral Grammar School\, St. Patrick's Close\, Dublin\, D08 WK19\, Ireland
END:VEVENT
BEGIN:VEVENT
DTSTART;TZID=Europe/Dublin:20250829T093000
DTEND;TZID=Europe/Dublin:20250829T143000
DTSTAMP:20260420T110726
CREATED:20250526T122030Z
LAST-MODIFIED:20250821T141942Z
UID:10000015-1756459800-1756477800@spcgs.ie
SUMMARY:Wellbeing Day
DESCRIPTION:All students- please note exact times will be confirmed nearer the date.
URL:https://spcgs.ie/event/wellbeing-day/
LOCATION:St. Patrick’s Cathedral Grammar School\, St. Patrick's Close\, Dublin\, D08 WK19\, Ireland
END:VEVENT
BEGIN:VEVENT
DTSTART;TZID=Europe/Dublin:20250827T085000
DTEND;TZID=Europe/Dublin:20250827T121500
DTSTAMP:20260420T110726
CREATED:20250526T121857Z
LAST-MODIFIED:20250526T121857Z
UID:10000022-1756284600-1756296900@spcgs.ie
SUMMARY:Full classes for all
DESCRIPTION:Including TY/ fourth year
URL:https://spcgs.ie/event/full-classes-for-all/
LOCATION:St. Patrick’s Cathedral Grammar School\, St. Patrick's Close\, Dublin\, D08 WK19\, Ireland
END:VEVENT
BEGIN:VEVENT
DTSTART;TZID=Europe/Dublin:20250826T085000
DTEND;TZID=Europe/Dublin:20250826T121500
DTSTAMP:20260420T110726
CREATED:20250526T121755Z
LAST-MODIFIED:20250526T121755Z
UID:10000021-1756198200-1756210500@spcgs.ie
SUMMARY:First\, second\, third\, fifth and sixth year students
DESCRIPTION:Class for all except transition year students
URL:https://spcgs.ie/event/first-second-third-fifth-and-sixth-year-students/
LOCATION:St. Patrick’s Cathedral Grammar School\, St. Patrick's Close\, Dublin\, D08 WK19\, Ireland
END:VEVENT
BEGIN:VEVENT
DTSTART;TZID=Europe/Dublin:20250825T085000
DTEND;TZID=Europe/Dublin:20250825T085000
DTSTAMP:20260420T110726
CREATED:20250526T121606Z
LAST-MODIFIED:20250526T121606Z
UID:10000020-1756111800-1756111800@spcgs.ie
SUMMARY:First\, third and sixth year students- term starts
DESCRIPTION:School for all students in first\, third and sixth year. 8.50 to 12.15
URL:https://spcgs.ie/event/first-third-and-sixth-year-students-term-starts/
LOCATION:St. Patrick’s Cathedral Grammar School\, St. Patrick's Close\, Dublin\, D08 WK19\, Ireland
END:VEVENT
BEGIN:VEVENT
DTSTART;TZID=Europe/Dublin:20250822T085000
DTEND;TZID=Europe/Dublin:20250822T120000
DTSTAMP:20260420T110726
CREATED:20250526T121343Z
LAST-MODIFIED:20250526T121343Z
UID:10000019-1755852600-1755864000@spcgs.ie
SUMMARY:First year students only
DESCRIPTION:School term starts for students in form 1 only. 8.50 to 12
URL:https://spcgs.ie/event/first-year-students-only/
LOCATION:St. Patrick’s Cathedral Grammar School\, St. Patrick's Close\, Dublin\, D08 WK19\, Ireland
END:VEVENT
BEGIN:VEVENT
DTSTART;VALUE=DATE:20250530
DTEND;VALUE=DATE:20250531
DTSTAMP:20260420T110726
CREATED:20240825T085407Z
LAST-MODIFIED:20240825T085407Z
UID:10000006-1748563200-1748649599@spcgs.ie
SUMMARY:Summer holidays begin
DESCRIPTION:
URL:https://spcgs.ie/event/summer-holidays-begin/
LOCATION:St. Patrick’s Cathedral Grammar School\, St. Patrick's Close\, Dublin\, D08 WK19\, Ireland
END:VEVENT
BEGIN:VEVENT
DTSTART;VALUE=DATE:20250528
DTEND;VALUE=DATE:20250529
DTSTAMP:20260420T110726
CREATED:20250528T093426Z
LAST-MODIFIED:20250528T093426Z
UID:10000034-1748390400-1748476799@spcgs.ie
SUMMARY:Mid-term break
DESCRIPTION:hhsS
URL:https://spcgs.ie/event/mid-term-break-2/
LOCATION:St. Patrick’s Cathedral Grammar School\, St. Patrick's Close\, Dublin\, D08 WK19\, Ireland
END:VEVENT
BEGIN:VEVENT
DTSTART;VALUE=DATE:20250526
DTEND;VALUE=DATE:20250531
DTSTAMP:20260420T110726
CREATED:20240825T085327Z
LAST-MODIFIED:20240825T085327Z
UID:10000005-1748217600-1748649599@spcgs.ie
SUMMARY:Summer exams- first\, second and fifth year.
DESCRIPTION:Timetable available online nearer the date.
URL:https://spcgs.ie/event/summer-exams-first-second-and-fifth-year/
LOCATION:St. Patrick’s Cathedral Grammar School\, St. Patrick's Close\, Dublin\, D08 WK19\, Ireland
END:VEVENT
BEGIN:VEVENT
DTSTART;TZID=Europe/Dublin:20250521T100000
DTEND;TZID=Europe/Dublin:20250521T130000
DTSTAMP:20260420T110726
CREATED:20240825T085150Z
LAST-MODIFIED:20240825T085150Z
UID:10000004-1747821600-1747832400@spcgs.ie
SUMMARY:School leavers service
DESCRIPTION:Exact details nearer the time
URL:https://spcgs.ie/event/school-leavers-service/
LOCATION:St. Patrick’s Cathedral Grammar School\, St. Patrick's Close\, Dublin\, D08 WK19\, Ireland
END:VEVENT
BEGIN:VEVENT
DTSTART;TZID=Europe/Dublin:20250520T190000
DTEND;TZID=Europe/Dublin:20250520T210000
DTSTAMP:20260420T110726
CREATED:20250313T103618Z
LAST-MODIFIED:20250313T103618Z
UID:10000016-1747767600-1747774800@spcgs.ie
SUMMARY:Transition year graduation
DESCRIPTION:Exact time to be confirmed
URL:https://spcgs.ie/event/transition-year-graduation/
LOCATION:St. Patrick’s Cathedral Grammar School\, St. Patrick's Close\, Dublin\, D08 WK19\, Ireland
END:VEVENT
BEGIN:VEVENT
DTSTART;VALUE=DATE:20250505
DTEND;VALUE=DATE:20250506
DTSTAMP:20260420T110726
CREATED:20240825T085021Z
LAST-MODIFIED:20240825T085021Z
UID:10000043-1746403200-1746489599@spcgs.ie
SUMMARY:May bank holiday
DESCRIPTION:
URL:https://spcgs.ie/event/may-bank-holiday/
LOCATION:St. Patrick’s Cathedral Grammar School\, St. Patrick's Close\, Dublin\, D08 WK19\, Ireland
END:VEVENT
BEGIN:VEVENT
DTSTART;TZID=Europe/Dublin:20250502T093000
DTEND;TZID=Europe/Dublin:20250502T150000
DTSTAMP:20260420T110726
CREATED:20240825T084940Z
LAST-MODIFIED:20240825T084940Z
UID:10000003-1746178200-1746198000@spcgs.ie
SUMMARY:Sports Day
DESCRIPTION:Details nearer the date\, times are approximate.
URL:https://spcgs.ie/event/sports-day/
LOCATION:St. Patrick’s Cathedral Grammar School\, St. Patrick's Close\, Dublin\, D08 WK19\, Ireland
END:VEVENT
BEGIN:VEVENT
DTSTART;TZID=Europe/Dublin:20250429T110000
DTEND;TZID=Europe/Dublin:20250429T155500
DTSTAMP:20260420T110726
CREATED:20240825T084831Z
LAST-MODIFIED:20240825T084831Z
UID:10000002-1745924400-1745942100@spcgs.ie
SUMMARY:Late opening
DESCRIPTION:Staff meeting\, classes begin 11am
URL:https://spcgs.ie/event/late-opening-3/
LOCATION:St. Patrick’s Cathedral Grammar School\, St. Patrick's Close\, Dublin\, D08 WK19\, Ireland
END:VEVENT
BEGIN:VEVENT
DTSTART;VALUE=DATE:20250411
DTEND;VALUE=DATE:20250429
DTSTAMP:20260420T110726
CREATED:20240825T084651Z
LAST-MODIFIED:20240825T084651Z
UID:10000001-1744329600-1745884799@spcgs.ie
SUMMARY:Easter holidays
DESCRIPTION:School reopens 8.50am Monday 28th April
URL:https://spcgs.ie/event/easter-holidays-2/
LOCATION:St. Patrick’s Cathedral Grammar School\, St. Patrick's Close\, Dublin\, D08 WK19\, Ireland
END:VEVENT
END:VCALENDAR