BEGIN:VCALENDAR
VERSION:2.0
PRODID:-//Saint Patricks Cathedral Grammar School - ECPv6.15.17.1//NONSGML v1.0//EN
CALSCALE:GREGORIAN
METHOD:PUBLISH
X-WR-CALNAME:Saint Patricks Cathedral Grammar School
X-ORIGINAL-URL:https://spcgs.ie
X-WR-CALDESC:Events for Saint Patricks Cathedral Grammar School
REFRESH-INTERVAL;VALUE=DURATION:PT1H
X-Robots-Tag:noindex
X-PUBLISHED-TTL:PT1H
BEGIN:VTIMEZONE
TZID:Europe/Dublin
BEGIN:STANDARD
TZOFFSETFROM:+0000
TZOFFSETTO:+0100
TZNAME:IST
DTSTART:20250330T010000
END:STANDARD
BEGIN:DAYLIGHT
TZOFFSETFROM:+0100
TZOFFSETTO:+0000
TZNAME:GMT
DTSTART:20251026T010000
END:DAYLIGHT
BEGIN:STANDARD
TZOFFSETFROM:+0000
TZOFFSETTO:+0100
TZNAME:IST
DTSTART:20260329T010000
END:STANDARD
BEGIN:DAYLIGHT
TZOFFSETFROM:+0100
TZOFFSETTO:+0000
TZNAME:GMT
DTSTART:20261025T010000
END:DAYLIGHT
BEGIN:STANDARD
TZOFFSETFROM:+0000
TZOFFSETTO:+0100
TZNAME:IST
DTSTART:20270328T010000
END:STANDARD
BEGIN:DAYLIGHT
TZOFFSETFROM:+0100
TZOFFSETTO:+0000
TZNAME:GMT
DTSTART:20271031T010000
END:DAYLIGHT
END:VTIMEZONE
BEGIN:VEVENT
DTSTART;VALUE=DATE:20260203
DTEND;VALUE=DATE:20260214
DTSTAMP:20260420T091426
CREATED:20260130T124548Z
LAST-MODIFIED:20260130T124548Z
UID:10000044-1770076800-1771027199@spcgs.ie
SUMMARY:Mock exams - Junior and Leaving cert.
DESCRIPTION:Timetable available on website
URL:https://spcgs.ie/event/mock-exams-junior-and-leaving-cert/
LOCATION:St. Patrick’s Cathedral Grammar School\, St. Patrick's Close\, Dublin\, D08 WK19\, Ireland
END:VEVENT
BEGIN:VEVENT
DTSTART;TZID=Europe/Dublin:20260210T161500
DTEND;TZID=Europe/Dublin:20260210T184500
DTSTAMP:20260420T091426
CREATED:20250528T092356Z
LAST-MODIFIED:20250528T092356Z
UID:10000032-1770740100-1770749100@spcgs.ie
SUMMARY:Parent - teacher meeting fifth year students
DESCRIPTION:
URL:https://spcgs.ie/event/parent-teacher-meeting-fifth-year-students/
LOCATION:St. Patrick’s Cathedral Grammar School\, St. Patrick's Close\, Dublin\, D08 WK19\, Ireland
END:VEVENT
BEGIN:VEVENT
DTSTART;TZID=Europe/Dublin:20260216T080000
DTEND;TZID=Europe/Dublin:20260220T160000
DTSTAMP:20260420T091426
CREATED:20260130T130027Z
LAST-MODIFIED:20260130T130027Z
UID:10000045-1771228800-1771603200@spcgs.ie
SUMMARY:Mid-term break
DESCRIPTION:School closed for mid-term break
URL:https://spcgs.ie/event/mid-term-break/
LOCATION:St. Patrick’s Cathedral Grammar School\, St. Patrick's Close\, Dublin\, D08 WK19\, Ireland
END:VEVENT
BEGIN:VEVENT
DTSTART;TZID=Europe/Dublin:20260224T181500
DTEND;TZID=Europe/Dublin:20260224T201500
DTSTAMP:20260420T091426
CREATED:20260223T090729Z
LAST-MODIFIED:20260223T090729Z
UID:10000058-1771956900-1771964100@spcgs.ie
SUMMARY:Transition year subject preference meeting
DESCRIPTION:Transition year parents and students – meeting about subject choices for Leaving Cert.
URL:https://spcgs.ie/event/transition-year-subject-preference-meeting/
LOCATION:St. Patrick’s Cathedral Grammar School\, St. Patrick's Close\, Dublin\, D08 WK19\, Ireland
END:VEVENT
BEGIN:VEVENT
DTSTART;TZID=Europe/Dublin:20260311T193000
DTEND;TZID=Europe/Dublin:20260311T213000
DTSTAMP:20260420T091426
CREATED:20260130T130335Z
LAST-MODIFIED:20260130T130754Z
UID:10000046-1773257400-1773264600@spcgs.ie
SUMMARY:Spring concert
DESCRIPTION:In St Patrick’s Cathedral
URL:https://spcgs.ie/event/spring-concert-2/
LOCATION:St. Patrick’s Cathedral Grammar School\, St. Patrick's Close\, Dublin\, D08 WK19\, Ireland
END:VEVENT
BEGIN:VEVENT
DTSTART;TZID=Europe/Dublin:20260316T080000
DTEND;TZID=Europe/Dublin:20260318T083000
DTSTAMP:20260420T091426
CREATED:20260130T130511Z
LAST-MODIFIED:20260130T130511Z
UID:10000047-1773648000-1773822600@spcgs.ie
SUMMARY:St Patrick's Day closure
DESCRIPTION:School closed Monday and Tuesday for St Patrick’s Day
URL:https://spcgs.ie/event/st-patricks-day-closure/
LOCATION:St. Patrick’s Cathedral Grammar School\, St. Patrick's Close\, Dublin\, D08 WK19\, Ireland
END:VEVENT
BEGIN:VEVENT
DTSTART;TZID=Europe/Dublin:20260326T080000
DTEND;TZID=Europe/Dublin:20260326T170000
DTSTAMP:20260420T091426
CREATED:20260130T130544Z
LAST-MODIFIED:20260130T130544Z
UID:10000048-1774512000-1774544400@spcgs.ie
SUMMARY:School closed
DESCRIPTION:Staff training
URL:https://spcgs.ie/event/school-closed/
LOCATION:St. Patrick’s Cathedral Grammar School\, St. Patrick's Close\, Dublin\, D08 WK19\, Ireland
END:VEVENT
BEGIN:VEVENT
DTSTART;TZID=Europe/Dublin:20260330T080000
DTEND;TZID=Europe/Dublin:20260413T083000
DTSTAMP:20260420T091426
CREATED:20260204T103153Z
LAST-MODIFIED:20260413T091726Z
UID:10000049-1774857600-1776069000@spcgs.ie
SUMMARY:Easter holidays
DESCRIPTION:School finishes Friday 27th March and reopens Monday\, 13th April at 8.50
URL:https://spcgs.ie/event/easter-holidays/
LOCATION:St. Patrick’s Cathedral Grammar School\, St. Patrick's Close\, Dublin\, D08 WK19\, Ireland
END:VEVENT
BEGIN:VEVENT
DTSTART;TZID=Europe/Dublin:20260414T110000
DTEND;TZID=Europe/Dublin:20260414T160000
DTSTAMP:20260420T091426
CREATED:20260204T103249Z
LAST-MODIFIED:20260204T103249Z
UID:10000050-1776164400-1776182400@spcgs.ie
SUMMARY:Late opening
DESCRIPTION:Staff meeting – classes for all students start at 11 am
URL:https://spcgs.ie/event/late-opening/
LOCATION:St. Patrick’s Cathedral Grammar School\, St. Patrick's Close\, Dublin\, D08 WK19\, Ireland
END:VEVENT
BEGIN:VEVENT
DTSTART;TZID=Europe/Dublin:20260501T100000
DTEND;TZID=Europe/Dublin:20260501T150000
DTSTAMP:20260420T091426
CREATED:20260204T103347Z
LAST-MODIFIED:20260204T103347Z
UID:10000051-1777629600-1777647600@spcgs.ie
SUMMARY:Sports day
DESCRIPTION:Details nearer the time
URL:https://spcgs.ie/event/sports-day-2/
LOCATION:St. Patrick’s Cathedral Grammar School\, St. Patrick's Close\, Dublin\, D08 WK19\, Ireland
END:VEVENT
BEGIN:VEVENT
DTSTART;VALUE=DATE:20260504
DTEND;VALUE=DATE:20260505
DTSTAMP:20260420T091426
CREATED:20260204T103422Z
LAST-MODIFIED:20260204T103422Z
UID:10000052-1777852800-1777939199@spcgs.ie
SUMMARY:May bank holiday
DESCRIPTION:School closed
URL:https://spcgs.ie/event/may-bank-holiday-2/
LOCATION:St. Patrick’s Cathedral Grammar School\, St. Patrick's Close\, Dublin\, D08 WK19\, Ireland
END:VEVENT
BEGIN:VEVENT
DTSTART;TZID=Europe/Dublin:20260519T190000
DTEND;TZID=Europe/Dublin:20260519T203000
DTSTAMP:20260420T091426
CREATED:20260204T103530Z
LAST-MODIFIED:20260204T103530Z
UID:10000053-1779217200-1779222600@spcgs.ie
SUMMARY:Transition year graduation
DESCRIPTION:Details nearer the time
URL:https://spcgs.ie/event/transition-year-graduation-2/
LOCATION:St. Patrick’s Cathedral Grammar School\, St. Patrick's Close\, Dublin\, D08 WK19\, Ireland
END:VEVENT
BEGIN:VEVENT
DTSTART;TZID=Europe/Dublin:20260520T110000
DTEND;TZID=Europe/Dublin:20260902T120000
DTSTAMP:20260420T091426
CREATED:20260204T103633Z
LAST-MODIFIED:20260204T103633Z
UID:10000054-1779274800-1788350400@spcgs.ie
SUMMARY:School leavers' service
DESCRIPTION:In St Patrick’s Cathedral
URL:https://spcgs.ie/event/school-leavers-service-2/
LOCATION:St. Patrick’s Cathedral Grammar School\, St. Patrick's Close\, Dublin\, D08 WK19\, Ireland
END:VEVENT
BEGIN:VEVENT
DTSTART;VALUE=DATE:20260525
DTEND;VALUE=DATE:20260530
DTSTAMP:20260420T091426
CREATED:20260204T103749Z
LAST-MODIFIED:20260204T103749Z
UID:10000055-1779667200-1780099199@spcgs.ie
SUMMARY:Summer exams - first\, second and fifth year
DESCRIPTION:Timetable will be available on website
URL:https://spcgs.ie/event/summer-exams-first-second-and-fifth-year-2/
LOCATION:St. Patrick’s Cathedral Grammar School\, St. Patrick's Close\, Dublin\, D08 WK19\, Ireland
END:VEVENT
BEGIN:VEVENT
DTSTART;VALUE=DATE:20260529
DTEND;VALUE=DATE:20260530
DTSTAMP:20260420T091426
CREATED:20260204T103819Z
LAST-MODIFIED:20260204T103819Z
UID:10000056-1780012800-1780099199@spcgs.ie
SUMMARY:Summer holidays begin
DESCRIPTION:
URL:https://spcgs.ie/event/summer-holidays-begin-2/
LOCATION:St. Patrick’s Cathedral Grammar School\, St. Patrick's Close\, Dublin\, D08 WK19\, Ireland
END:VEVENT
BEGIN:VEVENT
DTSTART;VALUE=DATE:20260603
DTEND;VALUE=DATE:20261001
DTSTAMP:20260420T091426
CREATED:20260204T103907Z
LAST-MODIFIED:20260204T103907Z
UID:10000057-1780444800-1790812799@spcgs.ie
SUMMARY:State exams begin
DESCRIPTION:
URL:https://spcgs.ie/event/state-exams-begin/
LOCATION:St. Patrick’s Cathedral Grammar School\, St. Patrick's Close\, Dublin\, D08 WK19\, Ireland
END:VEVENT
END:VCALENDAR